BEGIN:VCALENDAR
VERSION:2.0
PRODID:-//동우문화재단 - ECPv5.8.1//NONSGML v1.0//EN
CALSCALE:GREGORIAN
METHOD:PUBLISH
X-WR-CALNAME:동우문화재단
X-ORIGINAL-URL:http://dongwoocf.or.kr
X-WR-CALDESC:Events for 동우문화재단
BEGIN:VTIMEZONE
TZID:Asia/Seoul
BEGIN:STANDARD
TZOFFSETFROM:+0900
TZOFFSETTO:+0900
TZNAME:KST
DTSTART:20230101T000000
END:STANDARD
END:VTIMEZONE
BEGIN:VEVENT
DTSTART;VALUE=DATE:20231103
DTEND;VALUE=DATE:20231106
DTSTAMP:20260421T182424
CREATED:20230911T060553Z
LAST-MODIFIED:20231016T082223Z
UID:3410-1698969600-1699228799@dongwoocf.or.kr
SUMMARY:군산시간 영상제
DESCRIPTION:영화예술제 (아트홀)
URL:http://dongwoocf.or.kr/event/%ec%98%81%ed%99%94%ec%98%88%ec%88%a0%ec%a0%9c-%ec%95%84%ed%8a%b8%ed%99%80/
END:VEVENT
END:VCALENDAR