BEGIN:VCALENDAR
VERSION:2.0
PRODID:-//동우문화재단 - ECPv5.8.1//NONSGML v1.0//EN
CALSCALE:GREGORIAN
METHOD:PUBLISH
X-WR-CALNAME:동우문화재단
X-ORIGINAL-URL:http://dongwoocf.or.kr
X-WR-CALDESC:Events for 동우문화재단
BEGIN:VTIMEZONE
TZID:Asia/Seoul
BEGIN:STANDARD
TZOFFSETFROM:+0900
TZOFFSETTO:+0900
TZNAME:KST
DTSTART:20200101T000000
END:STANDARD
END:VTIMEZONE
BEGIN:VEVENT
DTSTART;TZID=Asia/Seoul:20200605T193000
DTEND;TZID=Asia/Seoul:20200605T213000
DTSTAMP:20260425T064822
CREATED:20200428T094920Z
LAST-MODIFIED:20200513T003142Z
UID:2748-1591385400-1591392600@dongwoocf.or.kr
SUMMARY:어울림 뮤직 페스티벌(아트홀)
DESCRIPTION:어울림 뮤직 페스티벌 \n2020.06.05 / PM 07:30 / 아트홀
URL:http://dongwoocf.or.kr/event/%ec%96%b4%ec%9a%b8%eb%a6%bc-%eb%ae%a4%ec%a7%81-%ed%8e%98%ec%8a%a4%ed%8b%b0%eb%b2%8c/
ATTACH;FMTTYPE=image/png:http://dongwoocf.or.kr/wp-content/uploads/2020/05/어울림특별음악회.png
END:VEVENT
END:VCALENDAR