BEGIN:VCALENDAR
VERSION:2.0
PRODID:-//동우문화재단 - ECPv5.8.1//NONSGML v1.0//EN
CALSCALE:GREGORIAN
METHOD:PUBLISH
X-WR-CALNAME:동우문화재단
X-ORIGINAL-URL:http://dongwoocf.or.kr
X-WR-CALDESC:Events for 동우문화재단
BEGIN:VTIMEZONE
TZID:Asia/Seoul
BEGIN:STANDARD
TZOFFSETFROM:+0900
TZOFFSETTO:+0900
TZNAME:KST
DTSTART:20210101T000000
END:STANDARD
END:VTIMEZONE
BEGIN:VEVENT
DTSTART;TZID=Asia/Seoul:20210227T160000
DTEND;TZID=Asia/Seoul:20210227T170000
DTSTAMP:20260424T141000
CREATED:20210210T030816Z
LAST-MODIFIED:20210210T030816Z
UID:3019-1614441600-1614445200@dongwoocf.or.kr
SUMMARY:안희정의 DANCE (아트홀)
DESCRIPTION:안희정의 DANCE \n2021.02.27 / PM 04:00 / 아트홀
URL:http://dongwoocf.or.kr/event/%ec%95%88%ed%9d%ac%ec%a0%95%ec%9d%98-dance-%ec%95%84%ed%8a%b8%ed%99%80/
END:VEVENT
END:VCALENDAR