BEGIN:VCALENDAR
VERSION:2.0
PRODID:-//동우문화재단 - ECPv5.8.1//NONSGML v1.0//EN
CALSCALE:GREGORIAN
METHOD:PUBLISH
X-WR-CALNAME:동우문화재단
X-ORIGINAL-URL:http://dongwoocf.or.kr
X-WR-CALDESC:Events for 동우문화재단
BEGIN:VTIMEZONE
TZID:Asia/Seoul
BEGIN:STANDARD
TZOFFSETFROM:+0900
TZOFFSETTO:+0900
TZNAME:KST
DTSTART:20240101T000000
END:STANDARD
END:VTIMEZONE
BEGIN:VEVENT
DTSTART;VALUE=DATE:20240525
DTEND;VALUE=DATE:20240526
DTSTAMP:20260420T094922
CREATED:20240403T075121Z
LAST-MODIFIED:20240403T075121Z
UID:3588-1716595200-1716681599@dongwoocf.or.kr
SUMMARY:솔라합창단 연주회
DESCRIPTION:
URL:http://dongwoocf.or.kr/event/%ec%86%94%eb%9d%bc%ed%95%a9%ec%b0%bd%eb%8b%a8-%ec%97%b0%ec%a3%bc%ed%9a%8c/
END:VEVENT
END:VCALENDAR