BEGIN:VCALENDAR
VERSION:2.0
PRODID:-//동우문화재단 - ECPv5.8.1//NONSGML v1.0//EN
CALSCALE:GREGORIAN
METHOD:PUBLISH
X-WR-CALNAME:동우문화재단
X-ORIGINAL-URL:http://dongwoocf.or.kr
X-WR-CALDESC:Events for 동우문화재단
BEGIN:VTIMEZONE
TZID:Asia/Seoul
BEGIN:STANDARD
TZOFFSETFROM:+0900
TZOFFSETTO:+0900
TZNAME:KST
DTSTART:20230101T000000
END:STANDARD
END:VTIMEZONE
BEGIN:VEVENT
DTSTART;VALUE=DATE:20230922
DTEND;VALUE=DATE:20230923
DTSTAMP:20260422T053335
CREATED:20230911T055320Z
LAST-MODIFIED:20230911T061931Z
UID:3394-1695340800-1695427199@dongwoocf.or.kr
SUMMARY:벨루체앙상블 창단연주회 (아트홀)
DESCRIPTION:벨루체앙상블 창단연주회 (아트홀) \n 
URL:http://dongwoocf.or.kr/event/%eb%b2%a8%eb%a3%a8%ec%b2%b4%ec%95%99%ec%83%81%eb%b8%94-%ec%b0%bd%eb%8b%a8%ec%97%b0%ec%a3%bc%ed%9a%8c-%ec%95%84%ed%8a%b8%ed%99%80/
END:VEVENT
END:VCALENDAR