BEGIN:VCALENDAR
VERSION:2.0
PRODID:-//동우문화재단 - ECPv5.8.1//NONSGML v1.0//EN
CALSCALE:GREGORIAN
METHOD:PUBLISH
X-WR-CALNAME:동우문화재단
X-ORIGINAL-URL:http://dongwoocf.or.kr
X-WR-CALDESC:Events for 동우문화재단
BEGIN:VTIMEZONE
TZID:Asia/Seoul
BEGIN:STANDARD
TZOFFSETFROM:+0900
TZOFFSETTO:+0900
TZNAME:KST
DTSTART:20230101T000000
END:STANDARD
END:VTIMEZONE
BEGIN:VEVENT
DTSTART;VALUE=DATE:20230610
DTEND;VALUE=DATE:20230611
DTSTAMP:20260422T134352
CREATED:20230403T021749Z
LAST-MODIFIED:20230403T021749Z
UID:3356-1686355200-1686441599@dongwoocf.or.kr
SUMMARY:배선희 독주회 (아트홀)
DESCRIPTION:배선희 독주회 (아트홀)
URL:http://dongwoocf.or.kr/event/%eb%b0%b0%ec%84%a0%ed%9d%ac-%eb%8f%85%ec%a3%bc%ed%9a%8c-%ec%95%84%ed%8a%b8%ed%99%80/
END:VEVENT
END:VCALENDAR