BEGIN:VCALENDAR
VERSION:2.0
PRODID:-//동우문화재단 - ECPv5.8.1//NONSGML v1.0//EN
CALSCALE:GREGORIAN
METHOD:PUBLISH
X-WR-CALNAME:동우문화재단
X-ORIGINAL-URL:http://dongwoocf.or.kr
X-WR-CALDESC:Events for 동우문화재단
BEGIN:VTIMEZONE
TZID:Asia/Seoul
BEGIN:STANDARD
TZOFFSETFROM:+0900
TZOFFSETTO:+0900
TZNAME:KST
DTSTART:20200101T000000
END:STANDARD
END:VTIMEZONE
BEGIN:VEVENT
DTSTART;TZID=Asia/Seoul:20201029T193000
DTEND;TZID=Asia/Seoul:20201029T213000
DTSTAMP:20260425T012658
CREATED:20200702T224727Z
LAST-MODIFIED:20200804T031357Z
UID:2821-1603999800-1604007000@dongwoocf.or.kr
SUMMARY:DIE NOTE창단 연주회 (아트홀)
DESCRIPTION:DIE NOTE창단 연주회 \n2020.10.29 / PM 07:30 / 아트홀
URL:http://dongwoocf.or.kr/event/%eb%b0%95%ed%98%9c%ec%a7%84%ec%b9%9c%ea%b5%ac%eb%93%a4-%ec%a1%b8%ec%97%85-%ec%97%b0%ec%a3%bc%ed%9a%8c-%ec%95%84%ed%8a%b8%ed%99%80/
END:VEVENT
END:VCALENDAR