BEGIN:VCALENDAR
VERSION:2.0
PRODID:-//동우문화재단 - ECPv5.8.1//NONSGML v1.0//EN
CALSCALE:GREGORIAN
METHOD:PUBLISH
X-WR-CALNAME:동우문화재단
X-ORIGINAL-URL:http://dongwoocf.or.kr
X-WR-CALDESC:Events for 동우문화재단
BEGIN:VTIMEZONE
TZID:Asia/Seoul
BEGIN:STANDARD
TZOFFSETFROM:+0900
TZOFFSETTO:+0900
TZNAME:KST
DTSTART:20220101T000000
END:STANDARD
END:VTIMEZONE
BEGIN:VEVENT
DTSTART;TZID=Asia/Seoul:20220322T190000
DTEND;TZID=Asia/Seoul:20220322T213000
DTSTAMP:20260424T035352
CREATED:20220322T064923Z
LAST-MODIFIED:20220322T064923Z
UID:3131-1647975600-1647984600@dongwoocf.or.kr
SUMMARY:박규연 피아노 독주회 (아트홀)
DESCRIPTION:박규연 피아노 독주회 (아트홀)
URL:http://dongwoocf.or.kr/event/%eb%b0%95%ea%b7%9c%ec%97%b0-%ed%94%bc%ec%95%84%eb%85%b8-%eb%8f%85%ec%a3%bc%ed%9a%8c-%ec%95%84%ed%8a%b8%ed%99%80/
END:VEVENT
END:VCALENDAR