BEGIN:VCALENDAR
VERSION:2.0
PRODID:-//동우문화재단 - ECPv5.8.1//NONSGML v1.0//EN
CALSCALE:GREGORIAN
METHOD:PUBLISH
X-WR-CALNAME:동우문화재단
X-ORIGINAL-URL:http://dongwoocf.or.kr
X-WR-CALDESC:Events for 동우문화재단
BEGIN:VTIMEZONE
TZID:Asia/Seoul
BEGIN:STANDARD
TZOFFSETFROM:+0900
TZOFFSETTO:+0900
TZNAME:KST
DTSTART:20210101T000000
END:STANDARD
END:VTIMEZONE
BEGIN:VEVENT
DTSTART;TZID=Asia/Seoul:20211116T193000
DTEND;TZID=Asia/Seoul:20211116T210000
DTSTAMP:20260424T092501
CREATED:20211111T062306Z
LAST-MODIFIED:20211111T062306Z
UID:3086-1637091000-1637096400@dongwoocf.or.kr
SUMMARY:박규연의 아르모니아 6회 정기연주회(아트홀)
DESCRIPTION:박규연의 아르모니아 6회 정기연주회(아트홀)
URL:http://dongwoocf.or.kr/event/%eb%b0%95%ea%b7%9c%ec%97%b0%ec%9d%98-%ec%95%84%eb%a5%b4%eb%aa%a8%eb%8b%88%ec%95%84-6%ed%9a%8c-%ec%a0%95%ea%b8%b0%ec%97%b0%ec%a3%bc%ed%9a%8c%ec%95%84%ed%8a%b8%ed%99%80/
END:VEVENT
END:VCALENDAR