BEGIN:VCALENDAR
VERSION:2.0
PRODID:-//동우문화재단 - ECPv5.8.1//NONSGML v1.0//EN
CALSCALE:GREGORIAN
METHOD:PUBLISH
X-WR-CALNAME:동우문화재단
X-ORIGINAL-URL:http://dongwoocf.or.kr
X-WR-CALDESC:Events for 동우문화재단
BEGIN:VTIMEZONE
TZID:Asia/Seoul
BEGIN:STANDARD
TZOFFSETFROM:+0900
TZOFFSETTO:+0900
TZNAME:KST
DTSTART:20230101T000000
END:STANDARD
END:VTIMEZONE
BEGIN:VEVENT
DTSTART;VALUE=DATE:20231121
DTEND;VALUE=DATE:20231122
DTSTAMP:20260421T092931
CREATED:20230911T061009Z
LAST-MODIFIED:20231113T004132Z
UID:3420-1700524800-1700611199@dongwoocf.or.kr
SUMMARY:K- Muse Society 창단연주회
DESCRIPTION:
URL:http://dongwoocf.or.kr/event/%eb%b0%95%ea%b7%9c%ec%97%b0%ea%b5%90%ec%88%98-%ed%8a%b8%eb%a6%ac%ec%98%a4-%ec%97%b0%ec%a3%bc%ed%9a%8c-%ec%95%84%ed%8a%b8%ed%99%80/
END:VEVENT
END:VCALENDAR