BEGIN:VCALENDAR
VERSION:2.0
PRODID:-//동우문화재단 - ECPv5.8.1//NONSGML v1.0//EN
CALSCALE:GREGORIAN
METHOD:PUBLISH
X-WR-CALNAME:동우문화재단
X-ORIGINAL-URL:http://dongwoocf.or.kr
X-WR-CALDESC:Events for 동우문화재단
BEGIN:VTIMEZONE
TZID:Asia/Seoul
BEGIN:STANDARD
TZOFFSETFROM:+0900
TZOFFSETTO:+0900
TZNAME:KST
DTSTART:20220101T000000
END:STANDARD
END:VTIMEZONE
BEGIN:VEVENT
DTSTART;VALUE=DATE:20221124
DTEND;VALUE=DATE:20221125
DTSTAMP:20260423T182944
CREATED:20221110T012644Z
LAST-MODIFIED:20221110T012644Z
UID:3299-1669248000-1669334399@dongwoocf.or.kr
SUMMARY:리허설 및 셋업 (아트홀)
DESCRIPTION:리허설 및 셋업 (아트홀)
URL:http://dongwoocf.or.kr/event/%eb%a6%ac%ed%97%88%ec%84%a4-%eb%b0%8f-%ec%85%8b%ec%97%85-%ec%95%84%ed%8a%b8%ed%99%80/
END:VEVENT
END:VCALENDAR