BEGIN:VCALENDAR
VERSION:2.0
PRODID:-//동우문화재단 - ECPv5.8.1//NONSGML v1.0//EN
CALSCALE:GREGORIAN
METHOD:PUBLISH
X-WR-CALNAME:동우문화재단
X-ORIGINAL-URL:http://dongwoocf.or.kr
X-WR-CALDESC:Events for 동우문화재단
BEGIN:VTIMEZONE
TZID:Asia/Seoul
BEGIN:STANDARD
TZOFFSETFROM:+0900
TZOFFSETTO:+0900
TZNAME:KST
DTSTART:20230101T000000
END:STANDARD
END:VTIMEZONE
BEGIN:VEVENT
DTSTART;VALUE=DATE:20230603
DTEND;VALUE=DATE:20230604
DTSTAMP:20260422T150701
CREATED:20230403T021724Z
LAST-MODIFIED:20230530T010337Z
UID:3354-1685750400-1685836799@dongwoocf.or.kr
SUMMARY:뚜스트링콰르텟 연주회 (아트홀)
DESCRIPTION:뚜스트링콰르텟 연주회 (아트홀)
URL:http://dongwoocf.or.kr/event/%eb%9a%9c%ec%8a%a4%ed%8a%b8%eb%a7%81%ec%bd%b0%eb%a5%b4%ed%85%9f-%ec%97%b0%ec%a3%bc%ed%9a%8c-%ec%95%84%ed%8a%b8%ed%99%80/
END:VEVENT
END:VCALENDAR