BEGIN:VCALENDAR
VERSION:2.0
PRODID:-//동우문화재단 - ECPv5.8.1//NONSGML v1.0//EN
CALSCALE:GREGORIAN
METHOD:PUBLISH
X-WR-CALNAME:동우문화재단
X-ORIGINAL-URL:http://dongwoocf.or.kr
X-WR-CALDESC:Events for 동우문화재단
BEGIN:VTIMEZONE
TZID:Asia/Seoul
BEGIN:STANDARD
TZOFFSETFROM:+0900
TZOFFSETTO:+0900
TZNAME:KST
DTSTART:20230101T000000
END:STANDARD
END:VTIMEZONE
BEGIN:VEVENT
DTSTART;VALUE=DATE:20231111
DTEND;VALUE=DATE:20231112
DTSTAMP:20260421T160237
CREATED:20230911T060732Z
LAST-MODIFIED:20231017T034553Z
UID:3414-1699660800-1699747199@dongwoocf.or.kr
SUMMARY:뚜뮤직소사이어티 연주회 (아트홀)
DESCRIPTION:뚜뮤직소사이어티 연주회 (아트홀) \n 
URL:http://dongwoocf.or.kr/event/%eb%9a%9c%eb%ae%a4%ec%a7%81%ec%86%8c%ec%82%ac%ec%9d%b4%ec%96%b4%ed%8b%b0-%ec%97%b0%ec%a3%bc%ed%9a%8c-%ec%95%84%ed%8a%b8%ed%99%80/
END:VEVENT
END:VCALENDAR