BEGIN:VCALENDAR
VERSION:2.0
PRODID:-//동우문화재단 - ECPv5.8.1//NONSGML v1.0//EN
CALSCALE:GREGORIAN
METHOD:PUBLISH
X-WR-CALNAME:동우문화재단
X-ORIGINAL-URL:http://dongwoocf.or.kr
X-WR-CALDESC:Events for 동우문화재단
BEGIN:VTIMEZONE
TZID:Asia/Seoul
BEGIN:STANDARD
TZOFFSETFROM:+0900
TZOFFSETTO:+0900
TZNAME:KST
DTSTART:20190101T000000
END:STANDARD
END:VTIMEZONE
BEGIN:VEVENT
DTSTART;VALUE=DATE:20190331
DTEND;VALUE=DATE:20190401
DTSTAMP:20260425T220634
CREATED:20190107T055336Z
LAST-MODIFIED:20190107T055336Z
UID:1032-1553990400-1554076799@dongwoocf.or.kr
SUMMARY:동우문화재단 공연장 준공 예정
DESCRIPTION:동우문화재단 공연장 준공 예정
URL:http://dongwoocf.or.kr/event/%eb%8f%99%ec%9a%b0%eb%ac%b8%ed%99%94%ec%9e%ac%eb%8b%a8-%ea%b3%b5%ec%97%b0%ec%9e%a5-%ec%a4%80%ea%b3%b5-%ec%98%88%ec%a0%95/
ATTACH;FMTTYPE=image/png:http://dongwoocf.or.kr/wp-content/uploads/2018/12/600-1.png
END:VEVENT
END:VCALENDAR