BEGIN:VCALENDAR
VERSION:2.0
PRODID:-//동우문화재단 - ECPv5.8.1//NONSGML v1.0//EN
CALSCALE:GREGORIAN
METHOD:PUBLISH
X-WR-CALNAME:동우문화재단
X-ORIGINAL-URL:http://dongwoocf.or.kr
X-WR-CALDESC:Events for 동우문화재단
BEGIN:VTIMEZONE
TZID:Asia/Seoul
BEGIN:STANDARD
TZOFFSETFROM:+0900
TZOFFSETTO:+0900
TZNAME:KST
DTSTART:20230101T000000
END:STANDARD
END:VTIMEZONE
BEGIN:VEVENT
DTSTART;VALUE=DATE:20231021
DTEND;VALUE=DATE:20231022
DTSTAMP:20260422T024012
CREATED:20230911T055630Z
LAST-MODIFIED:20230911T055630Z
UID:3402-1697846400-1697932799@dongwoocf.or.kr
SUMMARY:도교육청 토크콘서트 (아트홀)
DESCRIPTION:도교육청 토크콘서트 (아트홀)
URL:http://dongwoocf.or.kr/event/%eb%8f%84%ea%b5%90%ec%9c%a1%ec%b2%ad-%ed%86%a0%ed%81%ac%ec%bd%98%ec%84%9c%ed%8a%b8-%ec%95%84%ed%8a%b8%ed%99%80/
END:VEVENT
END:VCALENDAR