BEGIN:VCALENDAR
VERSION:2.0
PRODID:-//동우문화재단 - ECPv5.8.1//NONSGML v1.0//EN
CALSCALE:GREGORIAN
METHOD:PUBLISH
X-WR-CALNAME:동우문화재단
X-ORIGINAL-URL:http://dongwoocf.or.kr
X-WR-CALDESC:Events for 동우문화재단
BEGIN:VTIMEZONE
TZID:Asia/Seoul
BEGIN:STANDARD
TZOFFSETFROM:+0900
TZOFFSETTO:+0900
TZNAME:KST
DTSTART:20230101T000000
END:STANDARD
END:VTIMEZONE
BEGIN:VEVENT
DTSTART;VALUE=DATE:20231202
DTEND;VALUE=DATE:20231203
DTSTAMP:20260421T041050
CREATED:20230912T035840Z
LAST-MODIFIED:20230920T063831Z
UID:3435-1701475200-1701561599@dongwoocf.or.kr
SUMMARY:전북도교육청 토크콘서트
DESCRIPTION:
URL:http://dongwoocf.or.kr/event/%eb%8f%84%ea%b5%90%ec%9c%a1%ec%b2%ad-%eb%b6%81%ec%bd%98%ec%84%9c%ed%8a%b8/
END:VEVENT
END:VCALENDAR