BEGIN:VCALENDAR
VERSION:2.0
PRODID:-//동우문화재단 - ECPv5.8.1//NONSGML v1.0//EN
CALSCALE:GREGORIAN
METHOD:PUBLISH
X-WR-CALNAME:동우문화재단
X-ORIGINAL-URL:http://dongwoocf.or.kr
X-WR-CALDESC:Events for 동우문화재단
BEGIN:VTIMEZONE
TZID:Asia/Seoul
BEGIN:STANDARD
TZOFFSETFROM:+0900
TZOFFSETTO:+0900
TZNAME:KST
DTSTART:20200101T000000
END:STANDARD
END:VTIMEZONE
BEGIN:VEVENT
DTSTART;TZID=Asia/Seoul:20200922T190000
DTEND;TZID=Asia/Seoul:20200922T210000
DTSTAMP:20260425T024419
CREATED:20200804T030920Z
LAST-MODIFIED:20200804T030920Z
UID:2845-1600801200-1600808400@dongwoocf.or.kr
SUMMARY:덕분에 CONCERT (아트홀)
DESCRIPTION:덕분에 CONCERT \n2020.09.22 / PM 07:00 / 아트홀
URL:http://dongwoocf.or.kr/event/%eb%8d%95%eb%b6%84%ec%97%90-concert-%ec%95%84%ed%8a%b8%ed%99%80/
END:VEVENT
END:VCALENDAR