BEGIN:VCALENDAR
VERSION:2.0
PRODID:-//동우문화재단 - ECPv5.8.1//NONSGML v1.0//EN
CALSCALE:GREGORIAN
METHOD:PUBLISH
X-WR-CALNAME:동우문화재단
X-ORIGINAL-URL:http://dongwoocf.or.kr
X-WR-CALDESC:Events for 동우문화재단
BEGIN:VTIMEZONE
TZID:Asia/Seoul
BEGIN:STANDARD
TZOFFSETFROM:+0900
TZOFFSETTO:+0900
TZNAME:KST
DTSTART:20200101T000000
END:STANDARD
END:VTIMEZONE
BEGIN:VEVENT
DTSTART;TZID=Asia/Seoul:20201121T190000
DTEND;TZID=Asia/Seoul:20201121T210000
DTSTAMP:20260425T002046
CREATED:20200702T091321Z
LAST-MODIFIED:20200804T031756Z
UID:2805-1605985200-1605992400@dongwoocf.or.kr
SUMMARY:온 앙상블 연주회 (아트홀)
DESCRIPTION:온 앙상블 연주회 \n2020.11.21 / PM 07:00 / 아트홀
URL:http://dongwoocf.or.kr/event/%ea%b5%b0%ec%82%b0-%ec%8a%a4%ed%8a%b8%eb%a7%81%ec%8a%a4-%ec%b0%bd%eb%8b%a8-%ec%97%b0%ec%a3%bc%ed%9a%8c-%ec%95%84%ed%8a%b8%ed%99%80/
END:VEVENT
END:VCALENDAR