BEGIN:VCALENDAR
VERSION:2.0
PRODID:-//동우문화재단 - ECPv5.8.1//NONSGML v1.0//EN
CALSCALE:GREGORIAN
METHOD:PUBLISH
X-WR-CALNAME:동우문화재단
X-ORIGINAL-URL:http://dongwoocf.or.kr
X-WR-CALDESC:Events for 동우문화재단
BEGIN:VTIMEZONE
TZID:Asia/Seoul
BEGIN:STANDARD
TZOFFSETFROM:+0900
TZOFFSETTO:+0900
TZNAME:KST
DTSTART:20230101T000000
END:STANDARD
END:VTIMEZONE
BEGIN:VEVENT
DTSTART;VALUE=DATE:20231102
DTEND;VALUE=DATE:20231103
DTSTAMP:20260421T194102
CREATED:20231016T082441Z
LAST-MODIFIED:20231016T082441Z
UID:3467-1698883200-1698969599@dongwoocf.or.kr
SUMMARY:군산시간 영상제
DESCRIPTION:
URL:http://dongwoocf.or.kr/event/%ea%b5%b0%ec%82%b0%ec%8b%9c%ea%b0%84-%ec%98%81%ec%83%81%ec%a0%9c-3/
END:VEVENT
END:VCALENDAR