BEGIN:VCALENDAR
VERSION:2.0
PRODID:-//동우문화재단 - ECPv5.8.1//NONSGML v1.0//EN
CALSCALE:GREGORIAN
METHOD:PUBLISH
X-WR-CALNAME:동우문화재단
X-ORIGINAL-URL:http://dongwoocf.or.kr
X-WR-CALDESC:Events for 동우문화재단
BEGIN:VTIMEZONE
TZID:Asia/Seoul
BEGIN:STANDARD
TZOFFSETFROM:+0900
TZOFFSETTO:+0900
TZNAME:KST
DTSTART:20200101T000000
END:STANDARD
END:VTIMEZONE
BEGIN:VEVENT
DTSTART;TZID=Asia/Seoul:20201201T193000
DTEND;TZID=Asia/Seoul:20201201T213000
DTSTAMP:20260424T224832
CREATED:20201022T005738Z
LAST-MODIFIED:20201022T005738Z
UID:2918-1606851000-1606858200@dongwoocf.or.kr
SUMMARY:군산대음대생앙상블 연주회 (아트홀)
DESCRIPTION:군산대 음대생 앙상블 연주회 \n2020.12.01 / PM 07:30 / 아트홀
URL:http://dongwoocf.or.kr/event/%ea%b5%b0%ec%82%b0%eb%8c%80%ec%9d%8c%eb%8c%80%ec%83%9d%ec%95%99%ec%83%81%eb%b8%94-%ec%97%b0%ec%a3%bc%ed%9a%8c-%ec%95%84%ed%8a%b8%ed%99%80/
END:VEVENT
END:VCALENDAR