BEGIN:VCALENDAR
VERSION:2.0
PRODID:-//동우문화재단 - ECPv5.8.1//NONSGML v1.0//EN
CALSCALE:GREGORIAN
METHOD:PUBLISH
X-WR-CALNAME:동우문화재단
X-ORIGINAL-URL:http://dongwoocf.or.kr
X-WR-CALDESC:Events for 동우문화재단
BEGIN:VTIMEZONE
TZID:Asia/Seoul
BEGIN:STANDARD
TZOFFSETFROM:+0900
TZOFFSETTO:+0900
TZNAME:KST
DTSTART:20240101T000000
END:STANDARD
END:VTIMEZONE
BEGIN:VEVENT
DTSTART;VALUE=DATE:20240106
DTEND;VALUE=DATE:20240107
DTSTAMP:20260420T153704
CREATED:20231218T073936Z
LAST-MODIFIED:20231218T073936Z
UID:3531-1704499200-1704585599@dongwoocf.or.kr
SUMMARY:곽노희 제자연주회
DESCRIPTION:
URL:http://dongwoocf.or.kr/event/%ea%b3%bd%eb%85%b8%ed%9d%ac-%ec%a0%9c%ec%9e%90%ec%97%b0%ec%a3%bc%ed%9a%8c/
END:VEVENT
END:VCALENDAR